BEGIN:VCALENDAR
VERSION:2.0
PRODID:-//evangelische-akademie.de/eaf calendar v1.0//DE
BEGIN:VEVENT
UID:a9b7ba70783b617e9998dc4dd82eb3c5@evangelische-akademie.de
ORGANIZER;CN=\"Ulrike Schrader\":MAILTO:schrader@evangelische-akademie.de
LOCATION:Evangelische Akademie Frankfurt - Onlineveranstaltung
DTSTAMP:20260424T194925Z
DTSTART:20201210T180000Z
DTEND:20201210T193000Z
SUMMARY:RUSSLAND UND DEUTSCHLAND
DESCRIPTION:EIN AMBIVALENTES VERHÄLTNIS
URL:https://www.evangelische-akademie.de/kalender/russland-und-deutschland-2020-12-10-000000/
END:VEVENT
END:VCALENDAR