BEGIN:VCALENDAR
VERSION:2.0
PRODID:-//evangelische-akademie.de/eaf calendar v1.0//DE
BEGIN:VEVENT
UID:fed33392d3a48aa149a87a38b875ba4a@evangelische-akademie.de
ORGANIZER;CN=\"Natalie Marx\":MAILTO:marx@evangelische-akademie.de
LOCATION:Evangelische Akademie Frankfurt - Onlineveranstaltung
DTSTAMP:20260424T154548Z
DTSTART:20210129T140000Z
DTEND:20210129T170000Z
SUMMARY:ÖKUMENISCHE EXPERTENTAGUNG THEOLOGIE UND FILM
DESCRIPTION:CHRISTLICHE IDENTITÄT
URL:https://www.evangelische-akademie.de/kalender/oekumenische-expertentagung-theologie-und-film/58840/
END:VEVENT
END:VCALENDAR