BEGIN:VCALENDAR
VERSION:2.0
PRODID:-//evangelische-akademie.de/eaf calendar v1.0//DE
BEGIN:VEVENT
UID:65cc2c8205a05d7379fa3a6386f710e1@evangelische-akademie.de
ORGANIZER;CN=\"Claudia Mayer\":MAILTO:mayer@evangelische-akademie.de
LOCATION:Evangelische Akademie Frankfurt - Frankfurt am Main
DTSTAMP:20260424T124917Z
DTSTART:20210421T163000Z
DTEND:20210421T190000Z
SUMMARY:GEHEIMNISSE GESTATTET?
DESCRIPTION:Die Bedeutung von Transparenz in unserer Gesellschaft
URL:https://www.evangelische-akademie.de/kalender/geheimnisse-gestattet/58894/
END:VEVENT
END:VCALENDAR