BEGIN:VCALENDAR
VERSION:2.0
PRODID:-//evangelische-akademie.de/eaf calendar v1.0//DE
BEGIN:VEVENT
UID:24146db4eb48c718b84cae0a0799dcfc@evangelische-akademie.de
ORGANIZER;CN=\"Frauke Schneider\":MAILTO:schneider@evangelische-akademie.de
LOCATION:Evangelische Akademie Frankfurt - Onlineveranstaltung
DTSTAMP:20260425T025934Z
DTSTART:20210319T100000Z
DTEND:20210319T113000Z
SUMMARY:THINKTANK POLITISCHE BILDUNG
DESCRIPTION:
URL:https://www.evangelische-akademie.de/kalender/thinktank-politische-bildung/58977/
END:VEVENT
END:VCALENDAR