BEGIN:VCALENDAR
VERSION:2.0
PRODID:-//evangelische-akademie.de/eaf calendar v1.0//DE
BEGIN:VEVENT
UID:a34bacf839b923770b2c360eefa26748@evangelische-akademie.de
ORGANIZER;CN=\"Frauke Schneider\":MAILTO:schneider@evangelische-akademie.de
LOCATION:Evangelische Akademie Frankfurt - Frankfurt am Main
DTSTAMP:20260424T062314Z
DTSTART:20210607T080000Z
DTEND:20210607T190000Z
SUMMARY:POLITIK AN DER SCHERZGRENZE
DESCRIPTION:
URL:https://www.evangelische-akademie.de/kalender/politik-an-der-scherzgrenze/58984/
END:VEVENT
END:VCALENDAR