BEGIN:VCALENDAR
VERSION:2.0
PRODID:-//evangelische-akademie.de/eaf calendar v1.0//DE
BEGIN:VEVENT
UID:83fa5a432ae55c253d0e60dbfa716723@evangelische-akademie.de
ORGANIZER;CN=\"Frauke Schneider\":MAILTO:schneider@evangelische-akademie.de
LOCATION:Evangelische Akademie Frankfurt - Frankfurt am Main
DTSTAMP:20260425T204243Z
DTSTART:20210623T173000Z
DTEND:20210623T190000Z
SUMMARY:HUMOR IST ... POLITISCHE SATIRE AUS DER ANSTALT IN DIE AKADEMIE
DESCRIPTION:
URL:https://www.evangelische-akademie.de/kalender/humor-ist-politische-satire-aus-der-anstalt-in-die-akademie/59060/
END:VEVENT
END:VCALENDAR