BEGIN:VCALENDAR
VERSION:2.0
PRODID:-//evangelische-akademie.de/eaf calendar v1.0//DE
BEGIN:VEVENT
UID:537d9b6c927223c796cac288cced29df@evangelische-akademie.de
ORGANIZER;CN=\"Ulrike Schrader\":MAILTO:schrader@evangelische-akademie.de
LOCATION:Martin-Niemöller-Haus - Schmitten
DTSTAMP:20260421T053036Z
DTSTART:20210531T073000Z
DTEND:20210601T123000Z
SUMMARY:NUR WER FÜR DIE JUDEN SCHREIT …
DESCRIPTION:DIETRICH BONHOEFFER UND DAS JUDENTUM
URL:https://www.evangelische-akademie.de/kalender/nur-wer-fuer-die-juden-schreit-2021-05-31-000000/
END:VEVENT
END:VCALENDAR