BEGIN:VCALENDAR
VERSION:2.0
PRODID:-//evangelische-akademie.de/eaf calendar v1.0//DE
BEGIN:VEVENT
UID:b9141aff1412dc76340b3822d9ea6c72@evangelische-akademie.de
ORGANIZER;CN=\"Ulrike Schrader\":MAILTO:schrader@evangelische-akademie.de
LOCATION:Haus am Dom - Frankfurt am Main
DTSTAMP:20260425T104610Z
DTSTART:20210615T170000Z
DTEND:20210615T183000Z
SUMMARY:„SEIDENE FÄDEN“: EUROPA – USA – CHINA
DESCRIPTION:FRIEDENSGUTACHTEN 2021
URL:https://www.evangelische-akademie.de/kalender/seidene-faeden-europa-usa-china/58906/
END:VEVENT
END:VCALENDAR