BEGIN:VCALENDAR
VERSION:2.0
PRODID:-//evangelische-akademie.de/eaf calendar v1.0//DE
BEGIN:VEVENT
UID:7fec306d1e665bc9c748b5d2b99a6e97@evangelische-akademie.de
ORGANIZER;CN=\"Claudia Mayer\":MAILTO:mayer@evangelische-akademie.de
LOCATION:Evangelische Akademie Frankfurt - Onlineveranstaltung
DTSTAMP:20260425T204020Z
DTSTART:20210322T150000Z
DTEND:20210322T170000Z
SUMMARY:KOMMUNALWAHLKOMPASS IN HESSEN
DESCRIPTION:Auswertung, Erfahrung, Konsequenzen
URL:https://www.evangelische-akademie.de/kalender/kommunalwahlkompass-in-hessen/59115/
END:VEVENT
END:VCALENDAR