BEGIN:VCALENDAR
VERSION:2.0
PRODID:-//evangelische-akademie.de/eaf calendar v1.0//DE
BEGIN:VEVENT
UID:731c83db8d2ff01bdc000083fd3c3740@evangelische-akademie.de
ORGANIZER;CN=\"Ulrike Schrader\":MAILTO:schrader@evangelische-akademie.de
LOCATION:Evangelische Akademie Frankfurt - Onlineveranstaltung
DTSTAMP:20260424T155200Z
DTSTART:20210915T123000Z
DTEND:20210915T140000Z
SUMMARY:SPANNUNGSFELD DER PRÄVENTIONSARBEIT
DESCRIPTION:WIE SPRECHE ICH ÜBER ISLAMISMUS, OHNE ANTIMUSLIMISCHE RESSENTIMENTS ZU BEDIENEN?
URL:https://www.evangelische-akademie.de/kalender/spannungsfeld-der-praeventionsarbeit/59131/
END:VEVENT
END:VCALENDAR