BEGIN:VCALENDAR
VERSION:2.0
PRODID:-//evangelische-akademie.de/eaf calendar v1.0//DE
BEGIN:VEVENT
UID:d91d1b4d82419de8a614abce9cc0e6d4@evangelische-akademie.de
ORGANIZER;CN=\"Ulrike Schrader\":MAILTO:schrader@evangelische-akademie.de
LOCATION:Haus am Dom - Frankfurt am Main
DTSTAMP:20260424T093946Z
DTSTART:20211208T180000Z
DTEND:20211208T193000Z
SUMMARY:HEILIGE TEXTE
DESCRIPTION:FACTS, FAKE AND FICTION
URL:https://www.evangelische-akademie.de/kalender/heilige-texte/59210/
END:VEVENT
END:VCALENDAR