BEGIN:VCALENDAR
VERSION:2.0
PRODID:-//evangelische-akademie.de/eaf calendar v1.0//DE
BEGIN:VEVENT
UID:41bfd20a38bb1b0bec75acf0845530a7@evangelische-akademie.de
ORGANIZER;CN=\"Frauke Schneider\":MAILTO:schneider@evangelische-akademie.de
LOCATION:Evangelische Akademie Frankfurt - Frankfurt am Main
DTSTAMP:20260425T131448Z
DTSTART:20211006T173000Z
DTEND:20211006T190000Z
SUMMARY:HUMOR IST ...
DESCRIPTION:POLITISCHE SATIRE AUS DER ANSTALT IN DIE AKADEMIE
URL:https://www.evangelische-akademie.de/kalender/humor-ist/59320/
END:VEVENT
END:VCALENDAR