BEGIN:VCALENDAR
VERSION:2.0
PRODID:-//evangelische-akademie.de/eaf calendar v1.0//DE
BEGIN:VEVENT
UID:db2b4182156b2f1f817860ac9f409ad7@evangelische-akademie.de
ORGANIZER;CN=\"Frauke Schneider\":MAILTO:schneider@evangelische-akademie.de
LOCATION:Evangelische Akademie Frankfurt - Onlineveranstaltung
DTSTAMP:20260424T223913Z
DTSTART:20211120T083000Z
DTEND:20211120T140000Z
SUMMARY:VERTRAUT! DEMOKRATIE
DESCRIPTION:ABSCHLUSS-SYMPOSIUM DER JUNGEN AKADEMIE FRANKFURT
URL:https://www.evangelische-akademie.de/kalender/vertraut-demokratie/59319/
END:VEVENT
END:VCALENDAR