BEGIN:VCALENDAR
VERSION:2.0
PRODID:-//evangelische-akademie.de/eaf calendar v1.0//DE
BEGIN:VEVENT
UID:d6ef5f7fa914c19931a55bb262ec879c@evangelische-akademie.de
ORGANIZER;CN=\"Ulrike Schrader\":MAILTO:schrader@evangelische-akademie.de
LOCATION:Evangelische Akademie Frankfurt - Onlineveranstaltung
DTSTAMP:20260424T062734Z
DTSTART:20211107T130000Z
DTEND:20211107T150000Z
SUMMARY:LEONORE-SIEGELE-WENSCHKEWITZ PREIS
DESCRIPTION:2021
URL:https://www.evangelische-akademie.de/kalender/leonore-siegele-wenschkewitz-preis/58444/
END:VEVENT
END:VCALENDAR