BEGIN:VCALENDAR
VERSION:2.0
PRODID:-//evangelische-akademie.de/eaf calendar v1.0//DE
BEGIN:VEVENT
UID:a1d50185e7426cbb0acad1e6ca74b9aa@evangelische-akademie.de
ORGANIZER;CN=\"Frauke Schneider\":MAILTO:schneider@evangelische-akademie.de
LOCATION:Evangelische Akademie Frankfurt - Onlineveranstaltung
DTSTAMP:20260421T052623Z
DTSTART:20220202T183000Z
DTEND:20220202T200000Z
SUMMARY:HUMOR IST ...
DESCRIPTION:POLITISCHE SATIRE AUS DER ANSTALT IN DIE AKADEMIE
URL:https://www.evangelische-akademie.de/kalender/humor-ist/59636/
END:VEVENT
END:VCALENDAR