BEGIN:VCALENDAR
VERSION:2.0
PRODID:-//evangelische-akademie.de/eaf calendar v1.0//DE
BEGIN:VEVENT
UID:45f31d16b1058d586fc3be7207b58053@evangelische-akademie.de
ORGANIZER;CN=\"Frauke Schneider\":MAILTO:schneider@evangelische-akademie.de
LOCATION:Evangelische Akademie Frankfurt - Frankfurt am Main
DTSTAMP:20260419T162913Z
DTSTART:20220525T173000Z
DTEND:20220525T190000Z
SUMMARY:HUMOR IST ...
DESCRIPTION:POLITISCHE SATIRE AUS DER ANSTALT IN DIE AKADEMIE
URL:https://www.evangelische-akademie.de/kalender/humor-ist/59704/
END:VEVENT
END:VCALENDAR