BEGIN:VCALENDAR
VERSION:2.0
PRODID:-//evangelische-akademie.de/eaf calendar v1.0//DE
BEGIN:VEVENT
UID:884d79963bd8bc0ae9b13a1aa71add73@evangelische-akademie.de
ORGANIZER;CN=\"Frauke Schneider\":MAILTO:schneider@evangelische-akademie.de
LOCATION:Evangelische Akademie Frankfurt - Frankfurt am Main
DTSTAMP:20260425T103352Z
DTSTART:20220513T160000Z
DTEND:20220513T180000Z
SUMMARY:BRAND NEW? DEMOKRATIE
DESCRIPTION:DENKRAUM DER JUNGEN AKADEMIE FRANKFURT
URL:https://www.evangelische-akademie.de/kalender/brand-new-demokratie/59633/
END:VEVENT
END:VCALENDAR