BEGIN:VCALENDAR
VERSION:2.0
PRODID:-//evangelische-akademie.de/eaf calendar v1.0//DE
BEGIN:VEVENT
UID:a3fb4fbf9a6f9cf09166aa9c20cbc1ad@evangelische-akademie.de
ORGANIZER;CN=\"Frauke Schneider\":MAILTO:schneider@evangelische-akademie.de
LOCATION:Evangelische Akademie Frankfurt - Onlineveranstaltung
DTSTAMP:20260425T030218Z
DTSTART:20220509T073000Z
DTEND:20220509T110000Z
SUMMARY:YOUNG BARCAMP
DESCRIPTION:EU’LL LOVE IT!
URL:https://www.evangelische-akademie.de/kalender/young-barcamp/59711/
END:VEVENT
END:VCALENDAR