BEGIN:VCALENDAR
VERSION:2.0
PRODID:-//evangelische-akademie.de/eaf calendar v1.0//DE
BEGIN:VEVENT
UID:0a0a0c8aaa00ade50f74a3f0ca981ed7@evangelische-akademie.de
ORGANIZER;CN=\"Ulrike Schrader\":MAILTO:schrader@evangelische-akademie.de
LOCATION:Evangelische Akademie Frankfurt - Onlineveranstaltung
DTSTAMP:20260424T062130Z
DTSTART:20220525T170000Z
DTEND:20220525T183000Z
SUMMARY:HEILIGE TEXTE
DESCRIPTION:TIERWOHL
URL:https://www.evangelische-akademie.de/kalender/heilige-texte/59555/
END:VEVENT
END:VCALENDAR