BEGIN:VCALENDAR
VERSION:2.0
PRODID:-//evangelische-akademie.de/eaf calendar v1.0//DE
BEGIN:VEVENT
UID:33ceb07bf4eeb3da587e268d663aba1a@evangelische-akademie.de
ORGANIZER;CN=\"Claudia Mayer\":MAILTO:mayer@evangelische-akademie.de
LOCATION:Evangelische Akademie Frankfurt - Frankfurt am Main
DTSTAMP:20260424T062809Z
DTSTART:20220327T140000Z
DTEND:20220327T170000Z
SUMMARY:FRANKFURT IM FILM 1933 - Wiederholung
DESCRIPTION:DER ERSTE FARBFILM VON FRANKFURT UND DIE FILME VON GUSTAV SCHNEIDER
URL:https://www.evangelische-akademie.de/kalender/frankfurt-im-film-1933-wiederholung/59880/
END:VEVENT
END:VCALENDAR