BEGIN:VCALENDAR
VERSION:2.0
PRODID:-//evangelische-akademie.de/eaf calendar v1.0//DE
BEGIN:VEVENT
UID:c8ba76c279269b1c6bc8a07e38e78fa4@evangelische-akademie.de
ORGANIZER;CN=\"Karin Weintz\":MAILTO:weintz@evangelische-akademie.de
LOCATION:Evangelische Akademie Frankfurt - Frankfurt am Main
DTSTAMP:20260421T071820Z
DTSTART:20231018T150000Z
DTEND:20231021T200000Z
SUMMARY:OPEN BOOKS
DESCRIPTION:LESEFEST ZUR FRANKFURTER BUCHMESSE
URL:https://www.evangelische-akademie.de/kalender/open-books/57284/
END:VEVENT
END:VCALENDAR