BEGIN:VCALENDAR
VERSION:2.0
PRODID:-//evangelische-akademie.de/eaf calendar v1.0//DE
BEGIN:VEVENT
UID:1d72310edc006dadf2190caad5802983@evangelische-akademie.de
ORGANIZER;CN=\"Ulrike Schrader\":MAILTO:schrader@evangelische-akademie.de
LOCATION:Evangelische Akademie Frankfurt - Frankfurt am Main
DTSTAMP:20260421T052710Z
DTSTART:20220610T080000Z
DTEND:20220610T140000Z
SUMMARY:RASSISMUSKRITISCH UNTERRICHTEN
DESCRIPTION:INPUT. VERNETZUNG. AUSTAUSCH
URL:https://www.evangelische-akademie.de/kalender/rassismuskritisch-unterrichten/59951/
END:VEVENT
END:VCALENDAR