BEGIN:VCALENDAR
VERSION:2.0
PRODID:-//evangelische-akademie.de/eaf calendar v1.0//DE
BEGIN:VEVENT
UID:43cca4b3de2097b9558efefd0ecc3588@evangelische-akademie.de
ORGANIZER;CN=\"Karin Weintz\":MAILTO:weintz@evangelische-akademie.de
LOCATION:Evangelische Akademie Frankfurt - Frankfurt am Main
DTSTAMP:20260425T131147Z
DTSTART:20220902T150000Z
DTEND:20220902T193000Z
SUMMARY:AUFBAU IM ABBAU
DESCRIPTION:JUNGE MENSCHEN ENTWICKELN IDEEN FÜR DIE KIRCHE DER ZUKUNFT
URL:https://www.evangelische-akademie.de/kalender/aufbau-im-abbau/60030/
END:VEVENT
END:VCALENDAR