BEGIN:VCALENDAR
VERSION:2.0
PRODID:-//evangelische-akademie.de/eaf calendar v1.0//DE
BEGIN:VEVENT
UID:7bccfde7714a1ebadf06c5f4cea752c1@evangelische-akademie.de
ORGANIZER;CN=\"Claudia Mayer\":MAILTO:mayer@evangelische-akademie.de
LOCATION:Evangelische Akademie Frankfurt - Frankfurt am Main
DTSTAMP:20260424T235140Z
DTSTART:20221006T170000Z
DTEND:20221006T190000Z
SUMMARY:FRIEDEN DURCH HANDEL?
DESCRIPTION:Wirtschaftspolitisches Forum
URL:https://www.evangelische-akademie.de/kalender/frieden-durch-handel/59926/
END:VEVENT
END:VCALENDAR