BEGIN:VCALENDAR
VERSION:2.0
PRODID:-//evangelische-akademie.de/eaf calendar v1.0//DE
BEGIN:VEVENT
UID:b3ba8f1bee1238a2f37603d90b58898d@evangelische-akademie.de
ORGANIZER;CN=\"Claudia Mayer\":MAILTO:mayer@evangelische-akademie.de
LOCATION:Evangelische Akademie Frankfurt - Frankfurt am Main
DTSTAMP:20260421T095945Z
DTSTART:20221110T183000Z
DTEND:20221110T200000Z
SUMMARY:LEBEN BIS ZUM TOD
DESCRIPTION:Im Gespräch mit Anke Sevenich
URL:https://www.evangelische-akademie.de/kalender/leben-bis-zum-tod/59923/
END:VEVENT
END:VCALENDAR