BEGIN:VCALENDAR
VERSION:2.0
PRODID:-//evangelische-akademie.de/eaf calendar v1.0//DE
BEGIN:VEVENT
UID:5eac43aceba42c8757b54003a58277b5@evangelische-akademie.de
ORGANIZER;CN=\"Frauke Schneider\":MAILTO:schneider@evangelische-akademie.de
LOCATION:Evangelische Akademie Frankfurt - Frankfurt am Main
DTSTAMP:20260424T125007Z
DTSTART:20221014T150000Z
DTEND:20221015T150000Z
SUMMARY:#CHANGE
DESCRIPTION:AUSSTELLUNG FÜR VERÄNDERUNG
URL:https://www.evangelische-akademie.de/kalender/change/60222/
END:VEVENT
END:VCALENDAR