BEGIN:VCALENDAR
VERSION:2.0
PRODID:-//evangelische-akademie.de/eaf calendar v1.0//DE
BEGIN:VEVENT
UID:17326d10d511828f6b34fa6d751739e2@evangelische-akademie.de
ORGANIZER;CN=\"Ulrike Schrader\":MAILTO:schrader@evangelische-akademie.de
LOCATION:Evangelische Akademie Frankfurt - Frankfurt am Main
DTSTAMP:20260421T082742Z
DTSTART:20221005T170000Z
DTEND:20221005T190000Z
SUMMARY:MISSING AFGHANISTAN
DESCRIPTION:ZUR SITUATION VON FRAUEN AM HINDUKUSCH
URL:https://www.evangelische-akademie.de/kalender/missing-afghanistan/60271/
END:VEVENT
END:VCALENDAR