BEGIN:VCALENDAR
VERSION:2.0
PRODID:-//evangelische-akademie.de/eaf calendar v1.0//DE
BEGIN:VEVENT
UID:d759175de8ea5b1d9a2660e45554894f@evangelische-akademie.de
ORGANIZER;CN=\"Pia Seidel-Zoller\":MAILTO:seidel-zoller@evangelische-akademie.de
LOCATION:Evangelische Akademie Frankfurt - Frankfurt am Main
DTSTAMP:20260425T005305Z
DTSTART:20221019T140000Z
DTEND:20221022T200000Z
SUMMARY:OPEN BOOKS
DESCRIPTION:LESEFEST ZUR FRANKFURTER BUCHMESSE
URL:https://www.evangelische-akademie.de/kalender/open-books/60471/
END:VEVENT
END:VCALENDAR