BEGIN:VCALENDAR
VERSION:2.0
PRODID:-//evangelische-akademie.de/eaf calendar v1.0//DE
BEGIN:VEVENT
UID:4f87658ef0de194413056248a00ce009@evangelische-akademie.de
ORGANIZER;CN=\"Karin Weintz\":MAILTO:weintz@evangelische-akademie.de
LOCATION:Evangelische Akademie Frankfurt - Onlineveranstaltung
DTSTAMP:20260425T184025Z
DTSTART:20230228T111500Z
DTEND:20230228T120000Z
SUMMARY:LEBENSLAGEN - VERANSTALTUNGSREIHE
DESCRIPTION:TEIL 2: WOHNEN
URL:https://www.evangelische-akademie.de/kalender/lebenslagen-veranstaltungsreihe/60836/
END:VEVENT
END:VCALENDAR