BEGIN:VCALENDAR
VERSION:2.0
PRODID:-//evangelische-akademie.de/eaf calendar v1.0//DE
BEGIN:VEVENT
UID:5e1b18c4c6a6d31695acbae3fd70ecc6@evangelische-akademie.de
ORGANIZER;CN=\"Karin Weintz\":MAILTO:weintz@evangelische-akademie.de
LOCATION:Evangelische Akademie Frankfurt - Onlineveranstaltung
DTSTAMP:20260419T183320Z
DTSTART:20230418T101500Z
DTEND:20230418T110000Z
SUMMARY:LEBENSLAGEN - VERANSTALTUNGSREIHE
DESCRIPTION:TEIL 4: GESUNDHEIT
URL:https://www.evangelische-akademie.de/kalender/lebenslagen-veranstaltungsreihe/60838/
END:VEVENT
END:VCALENDAR