BEGIN:VCALENDAR
VERSION:2.0
PRODID:-//evangelische-akademie.de/eaf calendar v1.0//DE
BEGIN:VEVENT
UID:3e313b9badf12632cdae5452d20e1af6@evangelische-akademie.de
ORGANIZER;CN=\"Ulrike Schrader\":MAILTO:schrader@evangelische-akademie.de
LOCATION:Haus am Dom - Frankfurt am Main
DTSTAMP:20260425T131036Z
DTSTART:20230513T090000Z
DTEND:20230513T140000Z
SUMMARY:ZUKUNFT FÜR ALLE!
DESCRIPTION:SOZIALÖKOLOGISCHE KRISE IN HESSEN – WAS TUN?
URL:https://www.evangelische-akademie.de/kalender/zukunft-fuer-alle-sozialoekologische-krise-in-hessen/61003/
END:VEVENT
END:VCALENDAR