BEGIN:VCALENDAR
VERSION:2.0
PRODID:-//evangelische-akademie.de/eaf calendar v1.0//DE
BEGIN:VEVENT
UID:83adc9225e4deb67d7ce42d58fe5157c@evangelische-akademie.de
ORGANIZER;CN=\"Ulrike Schrader\":MAILTO:schrader@evangelische-akademie.de
LOCATION:Evangelische Akademie Frankfurt - Frankfurt am Main
DTSTAMP:20260425T144652Z
DTSTART:20230525T173000Z
DTEND:20230525T193000Z
SUMMARY:STADTSALON (II)
DESCRIPTION:ÜBER DAS GUTE LEBEN IN FRANKFURT UND OFFENBACH 
URL:https://www.evangelische-akademie.de/kalender/stadtsalon-ii/60475/
END:VEVENT
END:VCALENDAR