BEGIN:VCALENDAR
VERSION:2.0
PRODID:-//evangelische-akademie.de/eaf calendar v1.0//DE
BEGIN:VEVENT
UID:d3d80b656929a5bc0fa34381bf42fbdd@evangelische-akademie.de
ORGANIZER;CN=\"Claudia Mayer\":MAILTO:mayer@evangelische-akademie.de
LOCATION:Evangelische Akademie Frankfurt - Frankfurt am Main
DTSTAMP:20260425T222320Z
DTSTART:20240202T143000Z
DTEND:20240203T120000Z
SUMMARY:„BEDENKE, DASS MEIN LEBEN EIN HAUCH IST“
DESCRIPTION:HIOB-MOTIVE IM SPIELFILM
URL:https://www.evangelische-akademie.de/kalender/bedenke-dass-mein-leben-ein-hauch-ist/60976/
END:VEVENT
END:VCALENDAR