BEGIN:VCALENDAR
VERSION:2.0
PRODID:-//evangelische-akademie.de/eaf calendar v1.0//DE
BEGIN:VEVENT
UID:b6617980ce90f637e68c3ebe8b9be745@evangelische-akademie.de
ORGANIZER;CN=\"Claudia Mayer\":MAILTO:mayer@evangelische-akademie.de
LOCATION:Martin-Niemöller-Haus - Schmitten
DTSTAMP:20260424T124834Z
DTSTART:20240223T153000Z
DTEND:20240225T123000Z
SUMMARY:DIE HOSPIZARBEIT NEU DENKEN!
DESCRIPTION:32. ARNOLDSHAINER HOSPIZTAGE
URL:https://www.evangelische-akademie.de/kalender/die-hospizarbeit-neu-denken/61196/
END:VEVENT
END:VCALENDAR