BEGIN:VCALENDAR
VERSION:2.0
PRODID:-//evangelische-akademie.de/eaf calendar v1.0//DE
BEGIN:VEVENT
UID:8fc687aa152e8199fe9e73304d407bca@evangelische-akademie.de
ORGANIZER;CN=\"Claudia Mayer\":MAILTO:mayer@evangelische-akademie.de
LOCATION:Evangelische Akademie Frankfurt - Frankfurt am Main
DTSTAMP:20260421T100616Z
DTSTART:20231017T170000Z
DTEND:20231017T190000Z
SUMMARY:HESSEN HAT GEWÄHLT
DESCRIPTION:Was nun?
URL:https://www.evangelische-akademie.de/kalender/hessen-hat-gewaehlt/61469/
END:VEVENT
END:VCALENDAR