BEGIN:VCALENDAR
VERSION:2.0
PRODID:-//evangelische-akademie.de/eaf calendar v1.0//DE
BEGIN:VEVENT
UID:42853a61b26fef79e2ae788d97356799@evangelische-akademie.de
ORGANIZER;CN=\"Ulrike Schrader\":MAILTO:schrader@evangelische-akademie.de
LOCATION:Evangelische Akademie Frankfurt - Frankfurt am Main
DTSTAMP:20260423T082836Z
DTSTART:20231117T140000Z
DTEND:20231117T173000Z
SUMMARY:DER UKRAINE-KRIEG
DESCRIPTION:FRIEDENSETHIK UND AUSSENPOLITIK AUF DEM PRÜFSTAND
URL:https://www.evangelische-akademie.de/kalender/der-ukraine-krieg/61326/
END:VEVENT
END:VCALENDAR