BEGIN:VCALENDAR
VERSION:2.0
PRODID:-//evangelische-akademie.de/eaf calendar v1.0//DE
BEGIN:VEVENT
UID:779efbd24d5a7e37ce8dc93e7c04d572@evangelische-akademie.de
ORGANIZER;CN=\"Felizitas Stolberg\":MAILTO:stolberg@evangelische-akademie.de
LOCATION:Evangelische Akademie Frankfurt - Frankfurt am Main
DTSTAMP:20260425T151848Z
DTSTART:20240221T183000Z
DTEND:20240221T203000Z
SUMMARY:HUMOR IST …
DESCRIPTION:POLITISCHE SATIRE AUS DER ANSTALT IN DIE AKADEMIE
URL:https://www.evangelische-akademie.de/kalender/humor-ist/61655/
END:VEVENT
END:VCALENDAR