BEGIN:VCALENDAR
VERSION:2.0
PRODID:-//evangelische-akademie.de/eaf calendar v1.0//DE
BEGIN:VEVENT
UID:f40438b554cc0e3d96ee6064c5798f55@evangelische-akademie.de
ORGANIZER;CN=\"Frauke Schneider\":MAILTO:schneider@evangelische-akademie.de
LOCATION:Evangelische Akademie Frankfurt - Frankfurt am Main
DTSTAMP:20260425T163103Z
DTSTART:20241009T100000Z
DTEND:20241013T130000Z
SUMMARY:TEAM.BILDEN
DESCRIPTION:MODUL II
URL:https://www.evangelische-akademie.de/kalender/teambilden/61982/
END:VEVENT
END:VCALENDAR