BEGIN:VCALENDAR
VERSION:2.0
PRODID:-//evangelische-akademie.de/eaf calendar v1.0//DE
BEGIN:VEVENT
UID:e4a93f0332b2519177ed55741ea4e5e7@evangelische-akademie.de
ORGANIZER;CN=\"Claudia Mayer\":MAILTO:mayer@evangelische-akademie.de
LOCATION:Evangelische Akademie Frankfurt - Frankfurt am Main
DTSTAMP:20260423T124502Z
DTSTART:20240918T170000Z
DTEND:20240918T190000Z
SUMMARY:DER JIDDISCHE WITZ
DESCRIPTION:EINE VERGNÜGLICHE GESCHICHTE KURZ VOR DEM ABGRUND
URL:https://www.evangelische-akademie.de/kalender/der-jiddische-witz/62104/
END:VEVENT
END:VCALENDAR