BEGIN:VCALENDAR
VERSION:2.0
PRODID:-//evangelische-akademie.de/eaf calendar v1.0//DE
BEGIN:VEVENT
UID:b922ede9c9eb9eabec1c1fecbdecb45d@evangelische-akademie.de
ORGANIZER;CN=\"Claudia Mayer\":MAILTO:mayer@evangelische-akademie.de
LOCATION:Haus am Dom - Frankfurt am Main
DTSTAMP:20260425T030449Z
DTSTART:20241029T183000Z
DTEND:20241029T203000Z
SUMMARY:ZEHN GESCHICHTEN IN ZEHN GEBOTEN
DESCRIPTION:ULF ERDMANN ZIEGLER
URL:https://www.evangelische-akademie.de/kalender/zehn-geschichten-in-zehn-geboten/61856/
END:VEVENT
END:VCALENDAR