BEGIN:VCALENDAR
VERSION:2.0
PRODID:-//evangelische-akademie.de/eaf calendar v1.0//DE
BEGIN:VEVENT
UID:8a56257ea05c74018291954fc56fc448@evangelische-akademie.de
ORGANIZER;CN=\"Claudia Mayer\":MAILTO:mayer@evangelische-akademie.de
LOCATION:Evangelische Akademie Frankfurt - Frankfurt am Main
DTSTAMP:20260420T173509Z
DTSTART:20241117T160000Z
DTEND:20241117T180000Z
SUMMARY:DIE KLEINE KAMMERMUSIK (IV)
DESCRIPTION:TELEMANNS WERKE IM HERZEN DER STADT
URL:https://www.evangelische-akademie.de/kalender/die-kleine-kammermusik-iv/62036/
END:VEVENT
END:VCALENDAR