BEGIN:VCALENDAR
VERSION:2.0
PRODID:-//evangelische-akademie.de/eaf calendar v1.0//DE
BEGIN:VEVENT
UID:9023effe3c16b0477df9b93e26d57e2c@evangelische-akademie.de
ORGANIZER;CN=\"Ulrike Schrader\":MAILTO:schrader@evangelische-akademie.de
LOCATION:Evangelische Akademie Frankfurt - Frankfurt am Main
DTSTAMP:20260421T095816Z
DTSTART:20240914T073000Z
DTEND:20240914T153000Z
SUMMARY:EINE GESELLSCHAFTSKRITISCHE KRAFT DER GEGENWART?
DESCRIPTION:ERICH FROMM UND DIE MYSTIK IN DEN RELIGIONEN
URL:https://www.evangelische-akademie.de/kalender/eine-gesellschaftskritische-kraft-der-gegenwart/61785/
END:VEVENT
END:VCALENDAR