BEGIN:VCALENDAR
VERSION:2.0
PRODID:-//evangelische-akademie.de/eaf calendar v1.0//DE
BEGIN:VEVENT
UID:975e6107778ce7a40b9878bfb96a16a7@evangelische-akademie.de
ORGANIZER;CN=\"Frauke Schneider\":MAILTO:schneider@evangelische-akademie.de
LOCATION:Evangelische Akademie Frankfurt - Frankfurt am Main
DTSTAMP:20260423T143059Z
DTSTART:20240920T160000Z
DTEND:20240920T180000Z
SUMMARY:KRIEG UND (K)EIN ENDE?
DESCRIPTION:ÜBER DIE SPRACHE DER WAFFEN UND DEN WERT DER WORTE
URL:https://www.evangelische-akademie.de/kalender/krieg-und-kein-ende/62277/
END:VEVENT
END:VCALENDAR