BEGIN:VCALENDAR
VERSION:2.0
PRODID:-//evangelische-akademie.de/eaf calendar v1.0//DE
BEGIN:VEVENT
UID:8e489b4966fe8f703b5be647f1cbae63@evangelische-akademie.de
ORGANIZER;CN=\"Frauke Schneider\":MAILTO:schneider@evangelische-akademie.de
LOCATION:Evangelische Akademie Frankfurt - Frankfurt am Main
DTSTAMP:20260421T084908Z
DTSTART:20241112T170000Z
DTEND:20241112T190000Z
SUMMARY:DIE TIKTOK-TAKTIK
DESCRIPTION:BRAUCHT ES EIN VERBOT?
URL:https://www.evangelische-akademie.de/kalender/die-tiktok-taktik/62278/
END:VEVENT
END:VCALENDAR