BEGIN:VCALENDAR
VERSION:2.0
PRODID:-//evangelische-akademie.de/eaf calendar v1.0//DE
BEGIN:VEVENT
UID:f0b1d5879866f2c2eba77f39993d1184@evangelische-akademie.de
ORGANIZER;CN=\"Pia Seidel-Zoller\":MAILTO:seidel-zoller@evangelische-akademie.de
LOCATION:Evangelische Akademie Frankfurt - Frankfurt am Main
DTSTAMP:20260425T104316Z
DTSTART:20240906T123000Z
DTEND:20240906T160000Z
SUMMARY:DER HANDABDRUCK MACHT DEN UNTERSCHIED!
DESCRIPTION:KIRCHEN UND NACHHALTIGKEIT
URL:https://www.evangelische-akademie.de/kalender/der-handabdruck-macht-den-unterschied/62283/
END:VEVENT
END:VCALENDAR