BEGIN:VCALENDAR
VERSION:2.0
PRODID:-//evangelische-akademie.de/eaf calendar v1.0//DE
BEGIN:VEVENT
UID:494ba9ff03bdad881378a6fd4092a6c7@evangelische-akademie.de
ORGANIZER;CN=\"Simone Mehler\":MAILTO:mehler@evangelische-akademie.de
LOCATION:Weißfrauen Diakoniekirche - Frankfurt
DTSTAMP:20260421T021724Z
DTSTART:20240924T170000Z
DTEND:20240924T190000Z
SUMMARY:HEILIGE RÄUME – NEUE KONZEPTE – GERETTETE ZUKUNFT?
DESCRIPTION:
URL:https://www.evangelische-akademie.de/kalender/heilige-raeume-neue-konzepte-gerettete-zukunft/62372/
END:VEVENT
END:VCALENDAR