BEGIN:VCALENDAR
VERSION:2.0
PRODID:-//evangelische-akademie.de/eaf calendar v1.0//DE
BEGIN:VEVENT
UID:c8cd63e1bf13c5016881652983fb615a@evangelische-akademie.de
ORGANIZER;CN=\"Ulrike Schrader\":MAILTO:schrader@evangelische-akademie.de
LOCATION:Evangelische Akademie Frankfurt - Frankfurt am Main
DTSTAMP:20260424T145126Z
DTSTART:20250327T183000Z
DTEND:20250327T203000Z
SUMMARY:Stadtsalon (Bahnhofsviertel)
DESCRIPTION:Über das gute Leben in Frankfurt und Offenbach
URL:https://www.evangelische-akademie.de/kalender/stadtsalon-bahnhofsviertel/62619/
END:VEVENT
END:VCALENDAR