BEGIN:VCALENDAR
VERSION:2.0
PRODID:-//evangelische-akademie.de/eaf calendar v1.0//DE
BEGIN:VEVENT
UID:dc6a7e655d7e5840e66733e9ee67cc69@evangelische-akademie.de
ORGANIZER;CN=\"Simone Mehler\":MAILTO:mehler@evangelische-akademie.de
LOCATION:Evangelische Akademie Frankfurt - Frankfurt am Main
DTSTAMP:20260424T195031Z
DTSTART:20250401T080000Z
DTEND:20250401T140000Z
SUMMARY:Sport in Zeiten von Krieg und Frieden
DESCRIPTION:Vom gewaltfreien Wettbewerb zwischen „Feinden“
URL:https://www.evangelische-akademie.de/kalender/sport-in-zeiten-von-krieg-und-frieden/62011/
END:VEVENT
END:VCALENDAR