BEGIN:VCALENDAR
VERSION:2.0
PRODID:-//evangelische-akademie.de/eaf calendar v1.0//DE
BEGIN:VEVENT
UID:ada5e0b63ef60e2239fa8abdd4aa2f8e@evangelische-akademie.de
ORGANIZER;CN=\"Simone Mehler\":MAILTO:mehler@evangelische-akademie.de
LOCATION:Evangelische Akademie Frankfurt - Frankfurt am Main
DTSTAMP:20260425T144817Z
DTSTART:20250212T153000Z
DTEND:20250212T170000Z
SUMMARY:Interreligiöse Begegnungen in digitalen Räumen
DESCRIPTION:Forschendes Lernen mit Studierenden der Goethe-Uni
URL:https://www.evangelische-akademie.de/kalender/interreligioese-begegnungen-in-digitalen-raeumen/62883/
END:VEVENT
END:VCALENDAR