BEGIN:VCALENDAR
VERSION:2.0
PRODID:-//evangelische-akademie.de/eaf calendar v1.0//DE
BEGIN:VEVENT
UID:532b7cbe070a3579f424988a040752f2@evangelische-akademie.de
ORGANIZER;CN=\"Claudia Mayer\":MAILTO:mayer@evangelische-akademie.de
LOCATION:DFF – Deutsches Filminstitut & Filmmuseum - Frankfurt am Main
DTSTAMP:20260421T102743Z
DTSTART:20250506T153000Z
DTEND:20250506T181500Z
SUMMARY:Ich war neunzehn
DESCRIPTION:Kriegsende 1945 – Anfang einer neuen Ordnung?
URL:https://www.evangelische-akademie.de/kalender/ich-war-neunzehn/62739/
END:VEVENT
END:VCALENDAR